View In:
ArcGIS JavaScript
ArcGIS Online Map Viewer
ArcGIS Earth
Service Description: Transportation/RTPHighEcologicalValue2016ReClassedClipped
Name: Transportation/RTPHighEcologicalValue2016ReClassedClipped
Description:
Single Fused Map Cache: false
Extent:
XMin: 790499.7952764292
YMin: 246523.32883358118
XMax: 887969.7952764292
YMax: 373873.3288335812
Spatial Reference: 26998
(26998)
LatestVCSWkid(0)
Initial Extent:
XMin: 790499.7952764292
YMin: 246523.32883358118
XMax: 887969.7952764292
YMax: 373873.3288335812
Spatial Reference: 26998
(26998)
LatestVCSWkid(0)
Full Extent:
XMin: 790499.7952764292
YMin: 246523.32883358118
XMax: 887969.7952764292
YMax: 373873.3288335812
Spatial Reference: 26998
(26998)
LatestVCSWkid(0)
Pixel Size X: 2.5
Pixel Size Y: 2.5
Band Count: 1
Pixel Type: S8
RasterFunction Infos: {"rasterFunctionInfos": [{
"name": "None",
"description": "",
"help": ""
}]}
Mensuration Capabilities: Basic
Inspection Capabilities:
Has Histograms: true
Has Colormap: false
Has Multi Dimensions : false
Rendering Rule:
Min Scale: 0
Max Scale: 0
Resampling: false
Copyright Text:
Service Data Type: esriImageServiceDataTypeGeneric
Min Values: 1
Max Values: 3
Mean Values: 1.4325989550326366
Standard Deviation Values: 0.6232457034595683
Object ID Field:
Fields:
None
Default Mosaic Method: Center
Allowed Mosaic Methods:
SortField:
SortValue: null
Mosaic Operator: First
Default Compression Quality: 75
Default Resampling Method: Bilinear
Max Record Count: null
Max Image Height: 4100
Max Image Width: 15000
Max Download Image Count: null
Max Mosaic Image Count: null
Allow Raster Function: true
Allow Copy: true
Allow Analysis: true
Allow Compute TiePoints: false
Supports Statistics: false
Supports Advanced Queries: false
Use StandardizedQueries: true
Raster Type Infos:
Name: Raster Dataset
Description: Supports all ArcGIS Raster Datasets
Help:
Has Raster Attribute Table: true
Edit Fields Info: null
Ownership Based AccessControl For Rasters: null
Child Resources:
Info
Raster Attribute Table
Histograms
Statistics
Key Properties
Legend
Raster Function Infos
Supported Operations:
Export Image
Identify
Measure
Compute Histograms
Compute Statistics Histograms
Get Samples
Compute Class Statistics
Query Boundary
Compute Pixel Location
Compute Angles
Validate
Project