{
 "currentVersion": 10.91,
 "serviceDescription": "Transportation/RTPHighEcologicalValue2016ReClassedClipped",
 "name": "Transportation/RTPHighEcologicalValue2016ReClassedClipped",
 "description": "",
 "extent": {
  "xmin": 790499.7952764292,
  "ymin": 246523.32883358118,
  "xmax": 887969.7952764292,
  "ymax": 373873.3288335812,
  "spatialReference": {
   "wkid": 26998,
   "latestWkid": 26998
  }
 },
 "initialExtent": {
  "xmin": 790499.7952764292,
  "ymin": 246523.32883358118,
  "xmax": 887969.7952764292,
  "ymax": 373873.3288335812,
  "spatialReference": {
   "wkid": 26998,
   "latestWkid": 26998
  }
 },
 "fullExtent": {
  "xmin": 790499.7952764292,
  "ymin": 246523.32883358118,
  "xmax": 887969.7952764292,
  "ymax": 373873.3288335812,
  "spatialReference": {
   "wkid": 26998,
   "latestWkid": 26998
  }
 },
 "pixelSizeX": 2.5,
 "pixelSizeY": 2.5,
 "bandCount": 1,
 "pixelType": "S8",
 "minPixelSize": 0,
 "maxPixelSize": 0,
 "copyrightText": "",
 "serviceDataType": "esriImageServiceDataTypeGeneric",
 "minValues": [
  1
 ],
 "maxValues": [
  3
 ],
 "meanValues": [
  1.4325989550326366
 ],
 "stdvValues": [
  0.6232457034595683
 ],
 "objectIdField": "",
 "fields": [],
 "capabilities": "Image,Metadata,Mensuration",
 "defaultMosaicMethod": "Center",
 "allowedMosaicMethods": "",
 "sortField": "",
 "sortValue": null,
 "sortAscending": true,
 "mosaicOperator": "First",
 "defaultCompressionQuality": 75,
 "defaultResamplingMethod": "Bilinear",
 "maxImageHeight": 4100,
 "maxImageWidth": 15000,
 "allowRasterFunction": true,
 "rasterFunctionInfos": [
  {
   "name": "None",
   "description": "",
   "help": ""
  }
 ],
 "rasterTypeInfos": [
  {
   "name": "Raster Dataset",
   "description": "Supports all ArcGIS Raster Datasets",
   "help": ""
  }
 ],
 "mensurationCapabilities": "Basic",
 "hasHistograms": true,
 "hasColormap": false,
 "hasRasterAttributeTable": true,
 "minScale": 0,
 "maxScale": 0,
 "exportTilesAllowed": false,
 "hasMultidimensions": false,
 "supportsStatistics": false,
 "supportsAdvancedQueries": false,
 "editFieldsInfo": null,
 "ownershipBasedAccessControlForRasters": null,
 "allowComputeTiePoints": false,
 "useStandardizedQueries": true,
 "advancedQueryCapabilities": {
  "useStandardizedQueries": true,
  "supportsStatistics": false,
  "supportsOrderBy": false,
  "supportsDistinct": false,
  "supportsPagination": false
 },
 "spatialReference": {
  "wkid": 26998,
  "latestWkid": 26998
 }
}
