View In:
ArcGIS JavaScript
ArcGIS Online Map Viewer
ArcGIS Earth
Service Description: Transportation/PM_NLCD_TreeCanopy_2019_MPO
Name: Transportation/PM_NLCD_TreeCanopy_2019_MPO
Description:
Single Fused Map Cache: false
Extent:
XMin: 68808.58580967062
YMin: 1706405.2533641756
XMax: 167378.8649038323
YMax: 1836497.9116701558
Spatial Reference: 0
(0)
LatestVCSWkid(0)
Initial Extent:
XMin: 68808.58580967062
YMin: 1706405.2533641756
XMax: 167378.8649038323
YMax: 1836497.9116701558
Spatial Reference: 0
(0)
LatestVCSWkid(0)
Full Extent:
XMin: 68808.58580967062
YMin: 1706405.2533641756
XMax: 167378.8649038323
YMax: 1836497.9116701558
Spatial Reference: 0
(0)
LatestVCSWkid(0)
Pixel Size X: 29.997041720682187
Pixel Size Y: 29.996001453995913
Band Count: 1
Pixel Type: U8
RasterFunction Infos: {"rasterFunctionInfos": [
{
"name": "PM Tree Canopy 2019",
"description": "Tree canopy raster 2019",
"help": ""
},
{
"name": "None",
"description": "Make a Raster or Raster Dataset into a Function Raster Dataset.",
"help": ""
}
]}
Mensuration Capabilities: Basic
Inspection Capabilities:
Has Histograms: true
Has Colormap: false
Has Multi Dimensions : false
Rendering Rule:
Min Scale: 0
Max Scale: 0
Copyright Text:
Service Data Type: esriImageServiceDataTypeGeneric
Min Values: 0
Max Values: 96
Mean Values: 13.565403564103837
Standard Deviation Values: 23.509587932301613
Object ID Field:
Fields:
None
Default Mosaic Method: Center
Allowed Mosaic Methods:
SortField:
SortValue: null
Mosaic Operator: First
Default Compression Quality: 75
Default Resampling Method: Bilinear
Max Record Count: null
Max Image Height: 4100
Max Image Width: 15000
Max Download Image Count: null
Max Mosaic Image Count: null
Allow Raster Function: true
Allow Copy: true
Allow Analysis: true
Allow Compute TiePoints: false
Supports Statistics: false
Supports Advanced Queries: false
Use StandardizedQueries: true
Raster Type Infos:
Name: Raster Dataset
Description: Supports all ArcGIS Raster Datasets
Help:
Has Raster Attribute Table: true
Edit Fields Info: null
Ownership Based AccessControl For Rasters: null
Child Resources:
Info
Raster Attribute Table
Histograms
Statistics
Key Properties
Legend
Raster Function Infos
Supported Operations:
Export Image
Identify
Measure
Compute Histograms
Compute Statistics Histograms
Get Samples
Compute Class Statistics
Query Boundary
Compute Pixel Location
Compute Angles
Validate
Project