View In:
ArcGIS JavaScript
ArcGIS Online Map Viewer
ArcGIS Earth
Service Description: Transportation/NLCD_TreeCanopy_2019_MARC_Counties_Point_In_Time_RTP2050_Update
Name: Transportation/NLCD_TreeCanopy_2019_MARC_Counties_Point_In_Time_RTP2050_Update
Description:
Single Fused Map Cache: false
Extent:
XMin: 68805.0
YMin: 1706385.0
XMax: 193215.0
YMax: 1836915.0
Spatial Reference: 0
(0)
LatestVCSWkid(0)
Initial Extent:
XMin: 68805.0
YMin: 1706385.0
XMax: 193215.0
YMax: 1836915.0
Spatial Reference: 0
(0)
LatestVCSWkid(0)
Full Extent:
XMin: 68805.0
YMin: 1706385.0
XMax: 193215.0
YMax: 1836915.0
Spatial Reference: 0
(0)
LatestVCSWkid(0)
Pixel Size X: 30.0
Pixel Size Y: 30.0
Band Count: 1
Pixel Type: U8
RasterFunction Infos: {"rasterFunctionInfos": [
{
"name": "NLCD 2019 RTP Update",
"description": "NLCD",
"help": ""
},
{
"name": "None",
"description": "Make a Raster or Raster Dataset into a Function Raster Dataset.",
"help": ""
}
]}
Mensuration Capabilities: Basic
Inspection Capabilities:
Has Histograms: true
Has Colormap: false
Has Multi Dimensions : false
Rendering Rule:
Min Scale: 0
Max Scale: 0
Copyright Text:
Service Data Type: esriImageServiceDataTypeGeneric
Min Values: 0
Max Values: 96
Mean Values: 13.585208949919702
Standard Deviation Values: 23.6881388416355
Object ID Field:
Fields:
None
Default Mosaic Method: Center
Allowed Mosaic Methods:
SortField:
SortValue: null
Mosaic Operator: First
Default Compression Quality: 75
Default Resampling Method: Bilinear
Max Record Count: null
Max Image Height: 4100
Max Image Width: 15000
Max Download Image Count: null
Max Mosaic Image Count: null
Allow Raster Function: true
Allow Copy: true
Allow Analysis: true
Allow Compute TiePoints: false
Supports Statistics: false
Supports Advanced Queries: false
Use StandardizedQueries: true
Raster Type Infos:
Name: Raster Dataset
Description: Supports all ArcGIS Raster Datasets
Help:
Has Raster Attribute Table: true
Edit Fields Info: null
Ownership Based AccessControl For Rasters: null
Child Resources:
Info
Raster Attribute Table
Histograms
Statistics
Key Properties
Legend
Raster Function Infos
Supported Operations:
Export Image
Identify
Measure
Compute Histograms
Compute Statistics Histograms
Get Samples
Compute Class Statistics
Query Boundary
Compute Pixel Location
Compute Angles
Validate
Project