View In:
ArcGIS JavaScript
ArcGIS Online Map Viewer
ArcGIS Earth
Service Description: Transportation/LandUse2014
Name: Transportation/LandUse2014
Description:
Single Fused Map Cache: false
Extent:
XMin: -95.19214517143797
YMin: 38.38565248973467
XMax: -93.75483727431123
YMax: 39.53531141396838
Spatial Reference: 4326
(4326)
LatestVCSWkid(0)
Initial Extent:
XMin: -95.19214517143797
YMin: 38.38565248973467
XMax: -93.75483727431123
YMax: 39.53531141396838
Spatial Reference: 4326
(4326)
LatestVCSWkid(0)
Full Extent:
XMin: -95.19214517143797
YMin: 38.38565248973467
XMax: -93.75483727431123
YMax: 39.53531141396838
Spatial Reference: 4326
(4326)
LatestVCSWkid(0)
Pixel Size X: 1.5616122306896384E-4
Pixel Size Y: 1.5616122306896392E-4
Band Count: 1
Pixel Type: U8
RasterFunction Infos: {"rasterFunctionInfos": [{
"name": "None",
"description": "Make a Raster or Raster Dataset into a Function Raster Dataset.",
"help": ""
}]}
Mensuration Capabilities: Basic
Inspection Capabilities:
Has Histograms: true
Has Colormap: false
Has Multi Dimensions : false
Rendering Rule:
Min Scale: 0
Max Scale: 0
Copyright Text:
Service Data Type: esriImageServiceDataTypeGeneric
Min Values: 1
Max Values: 14
Mean Values: 3.3707834617238523
Standard Deviation Values: 1.8272150909330676
Object ID Field:
Fields:
None
Default Mosaic Method: Center
Allowed Mosaic Methods:
SortField:
SortValue: null
Mosaic Operator: First
Default Compression Quality: 75
Default Resampling Method: Bilinear
Max Record Count: null
Max Image Height: 4100
Max Image Width: 15000
Max Download Image Count: null
Max Mosaic Image Count: null
Allow Raster Function: true
Allow Copy: true
Allow Analysis: true
Allow Compute TiePoints: false
Supports Statistics: false
Supports Advanced Queries: false
Use StandardizedQueries: true
Raster Type Infos:
Name: Raster Dataset
Description: Supports all ArcGIS Raster Datasets
Help:
Has Raster Attribute Table: true
Edit Fields Info: null
Ownership Based AccessControl For Rasters: null
Child Resources:
Info
Raster Attribute Table
Histograms
Statistics
Key Properties
Legend
Raster Function Infos
Supported Operations:
Export Image
Identify
Measure
Compute Histograms
Compute Statistics Histograms
Get Samples
Compute Class Statistics
Query Boundary
Compute Pixel Location
Compute Angles
Validate
Project