View In:
ArcGIS JavaScript
ArcGIS Online Map Viewer
ArcGIS Earth
Service Description: Transportation/BiStateCorridorCrashes
Name: Transportation/BiStateCorridorCrashes
Description:
Single Fused Map Cache: false
Extent:
XMin: 2691438.812175029
YMin: 1063134.722255028
XMax: 2816620.574164053
YMax: 1084241.9324532738
Spatial Reference: 102698
(102698)
LatestVCSWkid(0)
Initial Extent:
XMin: 2691438.812175029
YMin: 1063134.722255028
XMax: 2816620.574164053
YMax: 1084241.9324532738
Spatial Reference: 102698
(102698)
LatestVCSWkid(0)
Full Extent:
XMin: 2691438.812175029
YMin: 1063134.722255028
XMax: 2816620.574164053
YMax: 1084241.9324532738
Spatial Reference: 102698
(102698)
LatestVCSWkid(0)
Pixel Size X: 49.99271644929073
Pixel Size Y: 49.89884207623099
Band Count: 4
Pixel Type: U8
RasterFunction Infos: {"rasterFunctionInfos": [{
"name": "None",
"description": "",
"help": ""
}]}
Mensuration Capabilities: Basic
Inspection Capabilities:
Has Histograms: true
Has Colormap: false
Has Multi Dimensions : false
Rendering Rule:
Min Scale: 0
Max Scale: 0
Copyright Text:
Service Data Type: esriImageServiceDataTypeProcessed
Min Values: 0, 0, 0, 0
Max Values: 255, 255, 0, 255
Mean Values: 60.756689061097, 96.878087258966, 0, 133.39740103776
Standard Deviation Values: 75.061792451608, 95.911210932442, 0, 127.3635975307
Object ID Field:
Fields:
None
Default Mosaic Method: Center
Allowed Mosaic Methods:
SortField:
SortValue: null
Mosaic Operator: First
Default Compression Quality: 75
Default Resampling Method: Bilinear
Max Record Count: null
Max Image Height: 4100
Max Image Width: 15000
Max Download Image Count: null
Max Mosaic Image Count: null
Allow Raster Function: true
Allow Copy: true
Allow Analysis: true
Allow Compute TiePoints: false
Supports Statistics: false
Supports Advanced Queries: false
Use StandardizedQueries: true
Raster Type Infos:
Name: Raster Dataset
Description: Supports all ArcGIS Raster Datasets
Help:
Has Raster Attribute Table: false
Edit Fields Info: null
Ownership Based AccessControl For Rasters: null
Child Resources:
Info
Histograms
Statistics
Key Properties
Legend
Raster Function Infos
Supported Operations:
Export Image
Identify
Measure
Compute Histograms
Compute Statistics Histograms
Get Samples
Compute Class Statistics
Query Boundary
Compute Pixel Location
Compute Angles
Validate
Project