View In:
ArcGIS JavaScript
ArcGIS Online Map Viewer
ArcGIS Earth
Service Description: Transportation/PM_Fatal_Injury_Density
Name: Transportation/PM_Fatal_Injury_Density
Description:
Single Fused Map Cache: false
Extent:
XMin: 2593465.8932786933
YMin: 813454.4728092676
XMax: 2902315.8932786933
YMax: 1224904.4728092677
Spatial Reference: 102698
(102698)
LatestVCSWkid(0)
Initial Extent:
XMin: 2593465.8932786933
YMin: 813454.4728092676
XMax: 2902315.8932786933
YMax: 1224904.4728092677
Spatial Reference: 102698
(102698)
LatestVCSWkid(0)
Full Extent:
XMin: 2593465.8932786933
YMin: 813454.4728092676
XMax: 2902315.8932786933
YMax: 1224904.4728092677
Spatial Reference: 102698
(102698)
LatestVCSWkid(0)
Pixel Size X: 50.0
Pixel Size Y: 50.000000000000014
Band Count: 1
Pixel Type: F32
RasterFunction Infos: {"rasterFunctionInfos": [
{
"name": "Fata Injury 2019",
"description": "Fatal injury heat map 2019",
"help": ""
},
{
"name": "None",
"description": "Make a Raster or Raster Dataset into a Function Raster Dataset.",
"help": ""
}
]}
Mensuration Capabilities: Basic
Inspection Capabilities:
Has Histograms: true
Has Colormap: false
Has Multi Dimensions : false
Rendering Rule:
Min Scale: 0
Max Scale: 0
Copyright Text:
Service Data Type: esriImageServiceDataTypeGeneric
Min Values: 0
Max Values: 5.562982559204102
Mean Values: 0.2904156977447835
Standard Deviation Values: 0.6130091479356525
Object ID Field:
Fields:
None
Default Mosaic Method: Center
Allowed Mosaic Methods:
SortField:
SortValue: null
Mosaic Operator: First
Default Compression Quality: 75
Default Resampling Method: Bilinear
Max Record Count: null
Max Image Height: 4100
Max Image Width: 15000
Max Download Image Count: null
Max Mosaic Image Count: null
Allow Raster Function: true
Allow Copy: true
Allow Analysis: true
Allow Compute TiePoints: false
Supports Statistics: false
Supports Advanced Queries: false
Use StandardizedQueries: true
Raster Type Infos:
Name: Raster Dataset
Description: Supports all ArcGIS Raster Datasets
Help:
Has Raster Attribute Table: false
Edit Fields Info: null
Ownership Based AccessControl For Rasters: null
Child Resources:
Info
Histograms
Statistics
Key Properties
Legend
Raster Function Infos
Supported Operations:
Export Image
Identify
Measure
Compute Histograms
Compute Statistics Histograms
Get Samples
Compute Class Statistics
Query Boundary
Compute Pixel Location
Compute Angles
Validate
Project