{
 "currentVersion": 11.5,
 "serviceDescription": "Transportation/Impervious",
 "serviceItemId": "2f950f2d5a8f4c1ab556abcad6600da9",
 "name": "Transportation/Impervious",
 "description": "",
 "extent": {
  "xmin": 790499.7952764292,
  "ymin": 246523.32883358118,
  "xmax": 914047.2952764292,
  "ymax": 373873.3288335812,
  "spatialReference": {
   "wkid": 26998,
   "latestWkid": 26998
  }
 },
 "initialExtent": {
  "xmin": 790499.7952764292,
  "ymin": 246523.32883358118,
  "xmax": 914047.2952764292,
  "ymax": 373873.3288335812,
  "spatialReference": {
   "wkid": 26998,
   "latestWkid": 26998
  }
 },
 "fullExtent": {
  "xmin": 790499.7952764292,
  "ymin": 246523.32883358118,
  "xmax": 914047.2952764292,
  "ymax": 373873.3288335812,
  "spatialReference": {
   "wkid": 26998,
   "latestWkid": 26998
  }
 },
 "sortableFields": "",
 "bandCount": 1,
 "pixelType": "U16",
 "minValues": [
  0
 ],
 "maxValues": [
  1
 ],
 "meanValues": [
  0.08976418539641642
 ],
 "stdvValues": [
  0.2858436223901287
 ],
 "serviceProperties": "Center<\/MosaicMethod>First<\/MosaicOperator>true<\/SortAscending><\/LockImageID><\/TileOrderField>0<\/TileOrderBase>0.000000<\/AvgImageSpacingX>0.000000<\/AvgImageSpacingY>0.0<\/ViewPointX>0.0<\/ViewPointY>0.0<\/ViewPointDefShiftX>0.0<\/ViewPointDefShiftY>None<\/CompressionMethod>75<\/CompressionQuality>0.010000<\/CompressionTolerance>Bilinear<\/SamplingMethod><\/ImageServiceProperties><\/ImageServer>",
 "allowedFields": "",
 "hasMultidimensions": false,
 "pixelSizeX": 2.5,
 "pixelSizeY": 2.5,
 "meanPixelSize": 2.5,
 "datasetFormat": "FGDBR",
 "uncompressedSize": 5034807720,
 "blockWidth": 128,
 "blockHeight": 128,
 "compressionType": "NONE",
 "bandNames": [
  "Band_1"
 ],
 "allowCopy": true,
 "allowAnalysis": true,
 "itemAccess": false,
 "inspectionCapabilities": "",
 "minPixelSize": 0,
 "maxPixelSize": 0,
 "copyrightText": "",
 "serviceDataType": "esriImageServiceDataTypeGeneric",
 "serviceSourceType": "esriImageServiceSourceTypeDataset",
 "objectIdField": "",
 "fields": [],
 "capabilities": "Image,Metadata,Mensuration",
 "defaultMosaicMethod": "Center",
 "allowedMosaicMethods": "",
 "sortField": "",
 "sortValue": null,
 "sortAscending": true,
 "mosaicOperator": "First",
 "defaultCompressionQuality": 75,
 "defaultResamplingMethod": "Bilinear",
 "maxImageHeight": 4100,
 "maxImageWidth": 15000,
 "allowRasterFunction": true,
 "rasterFunctionInfos": [
  {
   "name": "None",
   "description": "Make a Raster or Raster Dataset into a Function Raster Dataset.",
   "help": ""
  },
  {
   "name": "Impervious",
   "description": "Impervious",
   "help": ""
  }
 ],
 "rasterTypeInfos": [
  {
   "name": "Raster Dataset",
   "description": "Supports all ArcGIS Raster Datasets",
   "help": ""
  }
 ],
 "mensurationCapabilities": "Basic",
 "hasHistograms": true,
 "hasColormap": false,
 "hasRasterAttributeTable": true,
 "minScale": 0,
 "maxScale": 0,
 "exportTilesAllowed": false,
 "supportsStatistics": false,
 "supportsAdvancedQueries": false,
 "editFieldsInfo": null,
 "ownershipBasedAccessControlForRasters": null,
 "allowComputeTiePoints": false,
 "useStandardizedQueries": true,
 "advancedQueryCapabilities": {
  "useStandardizedQueries": true,
  "supportsStatistics": false,
  "supportsOrderBy": false,
  "supportsDistinct": false,
  "supportsPagination": false
 },
 "spatialReference": {
  "wkid": 26998,
  "latestWkid": 26998
 }
}
