{
 "currentVersion": 11.5,
 "serviceDescription": "This point-in-time service provides as its main function a raster image that is an indexed value of ecological value for a number of sub datasets. This is used within the context of Connected KC as a layer depicting areas of high ecological value in the MARC region. This was last updated in 2016 using a model in the X:\\WorkEfforts\\Environment\\Green_Infrastructure\\2016\\Data\\MARCGI_EcoModels.tbx titled Region_Eco_HighValue_Model. This appears to have been renamed to indicate a change in classification from the original Ecological_Value service. Unknown which is most up-to-date between the two but would imagine this is most current and as it is used in web maps and applications.",
 "serviceItemId": "149246a4e0da44ff9d3407f1f21ec024",
 "name": "Transportation/HighEcologicalValue2016",
 "description": "This point-in-time service provides as its main function a raster image that is an indexed value of ecological value for a number of sub datasets. This is used within the context of Connected KC as a layer depicting areas of high ecological value in the MARC region. This was last updated in 2016 using a model in the X:\\WorkEfforts\\Environment\\Green_Infrastructure\\2016\\Data\\MARCGI_EcoModels.tbx titled Region_Eco_HighValue_Model. This appears to have been renamed to indicate a change in classification from the original Ecological_Value service. Unknown which is most up-to-date between the two but would imagine this is most current and as it is used in web maps and applications.",
 "extent": {
  "xmin": 790499.7952764292,
  "ymin": 246523.32883358118,
  "xmax": 914047.2952764292,
  "ymax": 373873.3288335812,
  "spatialReference": {
   "wkid": 26998,
   "latestWkid": 26998
  }
 },
 "initialExtent": {
  "xmin": 790499.7952764292,
  "ymin": 246523.32883358118,
  "xmax": 914047.2952764292,
  "ymax": 373873.3288335812,
  "spatialReference": {
   "wkid": 26998,
   "latestWkid": 26998
  }
 },
 "fullExtent": {
  "xmin": 790499.7952764292,
  "ymin": 246523.32883358118,
  "xmax": 914047.2952764292,
  "ymax": 373873.3288335812,
  "spatialReference": {
   "wkid": 26998,
   "latestWkid": 26998
  }
 },
 "sortableFields": "",
 "bandCount": 1,
 "pixelType": "U8",
 "minValues": [
  0
 ],
 "maxValues": [
  8
 ],
 "meanValues": [
  1.4186950330797095
 ],
 "stdvValues": [
  1.2622971222222825
 ],
 "serviceProperties": "Center<\/MosaicMethod>First<\/MosaicOperator>true<\/SortAscending><\/LockImageID><\/TileOrderField>0<\/TileOrderBase>0.000000<\/AvgImageSpacingX>0.000000<\/AvgImageSpacingY>0.0<\/ViewPointX>0.0<\/ViewPointY>0.0<\/ViewPointDefShiftX>0.0<\/ViewPointDefShiftY>None<\/CompressionMethod>75<\/CompressionQuality>0.010000<\/CompressionTolerance>Bilinear<\/SamplingMethod><\/ImageServiceProperties><\/ImageServer>",
 "allowedFields": "",
 "hasMultidimensions": false,
 "pixelSizeX": 2.5,
 "pixelSizeY": 2.5,
 "meanPixelSize": 2.5,
 "datasetFormat": "FGDBR",
 "uncompressedSize": 2517403860,
 "blockWidth": 128,
 "blockHeight": 128,
 "compressionType": "NONE",
 "bandNames": [
  "Band_1"
 ],
 "allowCopy": true,
 "allowAnalysis": true,
 "itemAccess": false,
 "inspectionCapabilities": "",
 "minPixelSize": 0,
 "maxPixelSize": 0,
 "copyrightText": "",
 "serviceDataType": "esriImageServiceDataTypeGeneric",
 "serviceSourceType": "esriImageServiceSourceTypeDataset",
 "objectIdField": "",
 "fields": [],
 "capabilities": "Mensuration,Image,Metadata",
 "defaultMosaicMethod": "Center",
 "allowedMosaicMethods": "",
 "sortField": "",
 "sortValue": null,
 "sortAscending": true,
 "mosaicOperator": "First",
 "defaultCompressionQuality": 75,
 "defaultResamplingMethod": "Bilinear",
 "maxImageHeight": 4100,
 "maxImageWidth": 15000,
 "allowRasterFunction": true,
 "rasterFunctionInfos": [
  {
   "name": "None",
   "description": "Make a Raster or Raster Dataset into a Function Raster Dataset.",
   "help": ""
  },
  {
   "name": "High Ecological Value",
   "description": "This function applies a colormap to the ecological value dataset directly as opposed to needing to have a layer file.",
   "help": ""
  },
  {
   "name": "None",
   "description": "Make a Raster or Raster Dataset into a Function Raster Dataset.",
   "help": ""
  }
 ],
 "rasterTypeInfos": [
  {
   "name": "Raster Dataset",
   "description": "Supports all ArcGIS Raster Datasets",
   "help": ""
  }
 ],
 "mensurationCapabilities": "Basic",
 "hasHistograms": true,
 "hasColormap": false,
 "hasRasterAttributeTable": true,
 "minScale": 0,
 "maxScale": 0,
 "exportTilesAllowed": false,
 "supportsStatistics": false,
 "supportsAdvancedQueries": false,
 "editFieldsInfo": null,
 "ownershipBasedAccessControlForRasters": null,
 "allowComputeTiePoints": false,
 "useStandardizedQueries": true,
 "advancedQueryCapabilities": {
  "useStandardizedQueries": true,
  "supportsStatistics": false,
  "supportsOrderBy": false,
  "supportsDistinct": false,
  "supportsPagination": false
 },
 "spatialReference": {
  "wkid": 26998,
  "latestWkid": 26998
 },
 "resampling": false
}
