Information found within this service includes... <\/SPAN><\/P><\/P><\/DIV><\/DIV><\/DIV>",
"serviceItemId": "3023e5a0438a44b3b6bd8e7e8452e02b",
"name": "Transportation/Forest_Conservation_Priorities",
"description": "
Information found within this service includes... <\/SPAN><\/P><\/P><\/DIV><\/DIV><\/DIV>",
"extent": {
"xmin": 2593498.078336086,
"ymin": 808766.6521869227,
"xmax": 2998848.078336086,
"ymax": 1226616.6521869227,
"spatialReference": {
"wkid": 102698,
"latestWkid": 102698
}
},
"initialExtent": {
"xmin": 2593498.078336086,
"ymin": 808766.6521869227,
"xmax": 2998848.078336086,
"ymax": 1226616.6521869227,
"spatialReference": {
"wkid": 102698,
"latestWkid": 102698
}
},
"fullExtent": {
"xmin": 2593498.078336086,
"ymin": 808766.6521869227,
"xmax": 2998848.078336086,
"ymax": 1226616.6521869227,
"spatialReference": {
"wkid": 102698,
"latestWkid": 102698
}
},
"sortableFields": "",
"bandCount": 1,
"pixelType": "S8",
"minValues": [
1
],
"maxValues": [
5
],
"meanValues": [
3.042903154966151
],
"stdvValues": [
1.044546439079816
],
"serviceProperties": "Center<\/MosaicMethod>First<\/MosaicOperator>true<\/SortAscending><\/LockImageID><\/TileOrderField>0<\/TileOrderBase>0.000000<\/AvgImageSpacingX>0.000000<\/AvgImageSpacingY>0.0<\/ViewPointX>0.0<\/ViewPointY>0.0<\/ViewPointDefShiftX>0.0<\/ViewPointDefShiftY>None<\/CompressionMethod>75<\/CompressionQuality>0.010000<\/CompressionTolerance>Bilinear<\/SamplingMethod><\/ImageServiceProperties><\/ImageServer>",
"allowedFields": "",
"hasMultidimensions": false,
"pixelSizeX": 50,
"pixelSizeY": 50,
"meanPixelSize": 15.240030480060963,
"datasetFormat": "FGDBR",
"uncompressedSize": 67750199,
"blockWidth": 128,
"blockHeight": 128,
"compressionType": "LZ77",
"bandNames": [
"Band_1"
],
"allowCopy": true,
"allowAnalysis": true,
"itemAccess": false,
"inspectionCapabilities": "",
"minPixelSize": 0,
"maxPixelSize": 0,
"copyrightText": "",
"serviceDataType": "esriImageServiceDataTypeGeneric",
"serviceSourceType": "esriImageServiceSourceTypeDataset",
"objectIdField": "",
"fields": [],
"capabilities": "Image,Metadata,Mensuration",
"defaultMosaicMethod": "Center",
"allowedMosaicMethods": "",
"sortField": "",
"sortValue": null,
"sortAscending": true,
"mosaicOperator": "First",
"defaultCompressionQuality": 75,
"defaultResamplingMethod": "Bilinear",
"maxImageHeight": 4100,
"maxImageWidth": 15000,
"allowRasterFunction": true,
"rasterFunctionInfos": [
{
"name": "Forest Conservation Priorities",
"description": "Raster showing the forest conservation priorities of the MARC region.",
"help": ""
},
{
"name": "None",
"description": "Make a Raster or Raster Dataset into a Function Raster Dataset.",
"help": ""
}
],
"rasterTypeInfos": [
{
"name": "Raster Dataset",
"description": "Supports all ArcGIS Raster Datasets",
"help": ""
}
],
"mensurationCapabilities": "Basic",
"hasHistograms": true,
"hasColormap": false,
"hasRasterAttributeTable": true,
"minScale": 0,
"maxScale": 0,
"exportTilesAllowed": false,
"supportsStatistics": false,
"supportsAdvancedQueries": false,
"editFieldsInfo": null,
"ownershipBasedAccessControlForRasters": null,
"allowComputeTiePoints": false,
"useStandardizedQueries": true,
"advancedQueryCapabilities": {
"useStandardizedQueries": true,
"supportsStatistics": false,
"supportsOrderBy": false,
"supportsDistinct": false,
"supportsPagination": false
},
"spatialReference": {
"wkid": 102698,
"latestWkid": 102698
}
}