View In:
ArcGIS JavaScript
ArcGIS Online Map Viewer
ArcGIS Earth
Service Description: Transportation/FatalCrashesDensity20142019
Name: Transportation/FatalCrashesDensity20142019
Description:
Single Fused Map Cache: false
Extent:
XMin: 2593498.0783360787
YMin: 808801.9546814859
XMax: 2913275.816732079
YMax: 1227071.236503454
Spatial Reference: 102698
(102698)
LatestVCSWkid(0)
Initial Extent:
XMin: 2593498.0783360787
YMin: 808801.9546814859
XMax: 2913275.816732079
YMax: 1227071.236503454
Spatial Reference: 102698
(102698)
LatestVCSWkid(0)
Full Extent:
XMin: 2593498.0783360787
YMin: 808801.9546814859
XMax: 2913275.816732079
YMax: 1227071.236503454
Spatial Reference: 102698
(102698)
LatestVCSWkid(0)
Pixel Size X: 1279.1109535840005
Pixel Size Y: 1279.110953584
Band Count: 1
Pixel Type: F32
RasterFunction Infos: {"rasterFunctionInfos": [
{
"name": "Fatal Crashes 20142019",
"description": "Fatal Crashes heat map 2014-2019",
"help": ""
},
{
"name": "None",
"description": "Make a Raster or Raster Dataset into a Function Raster Dataset.",
"help": ""
}
]}
Mensuration Capabilities: Basic
Inspection Capabilities:
Has Histograms: true
Has Colormap: false
Has Multi Dimensions : false
Rendering Rule:
Min Scale: 0
Max Scale: 0
Copyright Text:
Service Data Type: esriImageServiceDataTypeGeneric
Min Values: 0
Max Values: 5.192998886108398
Mean Values: 0.2340764234402236
Standard Deviation Values: 0.524357310413908
Object ID Field:
Fields:
None
Default Mosaic Method: Center
Allowed Mosaic Methods:
SortField:
SortValue: null
Mosaic Operator: First
Default Compression Quality: 75
Default Resampling Method: Bilinear
Max Record Count: null
Max Image Height: 4100
Max Image Width: 15000
Max Download Image Count: null
Max Mosaic Image Count: null
Allow Raster Function: true
Allow Copy: true
Allow Analysis: true
Allow Compute TiePoints: false
Supports Statistics: false
Supports Advanced Queries: false
Use StandardizedQueries: true
Raster Type Infos:
Name: Raster Dataset
Description: Supports all ArcGIS Raster Datasets
Help:
Has Raster Attribute Table: false
Edit Fields Info: null
Ownership Based AccessControl For Rasters: null
Child Resources:
Info
Histograms
Statistics
Key Properties
Legend
Raster Function Infos
Supported Operations:
Export Image
Identify
Measure
Compute Histograms
Compute Statistics Histograms
Get Samples
Compute Class Statistics
Query Boundary
Compute Pixel Location
Compute Angles
Validate
Project